BEGIN:VCALENDAR
VERSION:2.0
PRODID:-//Vaughn Forest Church - ECPv6.15.20//NONSGML v1.0//EN
CALSCALE:GREGORIAN
METHOD:PUBLISH
X-ORIGINAL-URL:https://vaughnforest.com
X-WR-CALDESC:Events for Vaughn Forest Church
REFRESH-INTERVAL;VALUE=DURATION:PT1H
X-Robots-Tag:noindex
X-PUBLISHED-TTL:PT1H
BEGIN:VTIMEZONE
TZID:America/Chicago
BEGIN:DAYLIGHT
TZOFFSETFROM:-0600
TZOFFSETTO:-0500
TZNAME:CDT
DTSTART:20220313T080000
END:DAYLIGHT
BEGIN:STANDARD
TZOFFSETFROM:-0500
TZOFFSETTO:-0600
TZNAME:CST
DTSTART:20221106T070000
END:STANDARD
BEGIN:DAYLIGHT
TZOFFSETFROM:-0600
TZOFFSETTO:-0500
TZNAME:CDT
DTSTART:20230312T080000
END:DAYLIGHT
BEGIN:STANDARD
TZOFFSETFROM:-0500
TZOFFSETTO:-0600
TZNAME:CST
DTSTART:20231105T070000
END:STANDARD
BEGIN:DAYLIGHT
TZOFFSETFROM:-0600
TZOFFSETTO:-0500
TZNAME:CDT
DTSTART:20240310T080000
END:DAYLIGHT
BEGIN:STANDARD
TZOFFSETFROM:-0500
TZOFFSETTO:-0600
TZNAME:CST
DTSTART:20241103T070000
END:STANDARD
END:VTIMEZONE
BEGIN:VEVENT
DTSTART;VALUE=DATE:20230409
DTEND;VALUE=DATE:20230410
DTSTAMP:20260422T182157
CREATED:20230328T204251Z
LAST-MODIFIED:20230328T204251Z
UID:10000379-1680998400-1681084799@vaughnforest.com
SUMMARY:Easter Sunday
DESCRIPTION:You are invited to Easter Sunday at Vaughn Forest Church on Sunday\, April 9\, at 9:30 AM or 11:00 AM!
URL:https://vaughnforest.com/event/easter-sunday-2/
LOCATION:Vaughn Forest Church\, 8660 Vaughn Road\, Montgomery\, AL\, 36117\, United States
ATTACH;FMTTYPE=image/webp:https://vaughnforest.com/wp-content/uploads/2023/03/338032755_1391556691603227_3589093969047045277_n.webp
ORGANIZER;CN="Chad Boak":MAILTO:chad.boak@vaughnforest.com
GEO:32.3370911;-86.1466101
X-APPLE-STRUCTURED-LOCATION;VALUE=URI;X-ADDRESS=Vaughn Forest Church 8660 Vaughn Road Montgomery AL 36117 United States;X-APPLE-RADIUS=500;X-TITLE=8660 Vaughn Road:geo:-86.1466101,32.3370911
END:VEVENT
END:VCALENDAR