BEGIN:VCALENDAR
VERSION:2.0
PRODID:-//Vaughn Forest Church - ECPv6.15.20//NONSGML v1.0//EN
CALSCALE:GREGORIAN
METHOD:PUBLISH
X-ORIGINAL-URL:https://vaughnforest.com
X-WR-CALDESC:Events for Vaughn Forest Church
REFRESH-INTERVAL;VALUE=DURATION:PT1H
X-Robots-Tag:noindex
X-PUBLISHED-TTL:PT1H
BEGIN:VTIMEZONE
TZID:America/Chicago
BEGIN:DAYLIGHT
TZOFFSETFROM:-0600
TZOFFSETTO:-0500
TZNAME:CDT
DTSTART:20220313T080000
END:DAYLIGHT
BEGIN:STANDARD
TZOFFSETFROM:-0500
TZOFFSETTO:-0600
TZNAME:CST
DTSTART:20221106T070000
END:STANDARD
BEGIN:DAYLIGHT
TZOFFSETFROM:-0600
TZOFFSETTO:-0500
TZNAME:CDT
DTSTART:20230312T080000
END:DAYLIGHT
BEGIN:STANDARD
TZOFFSETFROM:-0500
TZOFFSETTO:-0600
TZNAME:CST
DTSTART:20231105T070000
END:STANDARD
BEGIN:DAYLIGHT
TZOFFSETFROM:-0600
TZOFFSETTO:-0500
TZNAME:CDT
DTSTART:20240310T080000
END:DAYLIGHT
BEGIN:STANDARD
TZOFFSETFROM:-0500
TZOFFSETTO:-0600
TZNAME:CST
DTSTART:20241103T070000
END:STANDARD
END:VTIMEZONE
BEGIN:VEVENT
DTSTART;VALUE=DATE:20230703
DTEND;VALUE=DATE:20230708
DTSTAMP:20260422T181947
CREATED:20230328T162356Z
LAST-MODIFIED:20230328T201707Z
UID:10000378-1688342400-1688774399@vaughnforest.com
SUMMARY:Student Ministry Crossroads Summer Camp
DESCRIPTION:Attention all students currently in grades 6-12…prepare for THE BEST WEEK OF THE SUMMER!\nThis summer we will be attending CrossRoads Summer Camp in Anderson\, South Carolina on July 3-7. This camp is put on by Clayton King Ministries and takes place at Anderson University.\nWe truly believe that this will be the BEST week of the summer! There will be incredible activities\, great food\, awesome teaching\, fantastic worship\, and tons more that we know your student will love!\nIf you would like more info about camp you can check out Crossroad’s Website here.  \nThe cost for our CrossRoads Summer Camp is $309 with a $50 non-refundable deposit to sign up. \nTo sign up\, click here!
URL:https://vaughnforest.com/event/crossroads-summer-camp/
LOCATION:AL
CATEGORIES:Students
ATTACH;FMTTYPE=image/webp:https://vaughnforest.com/wp-content/uploads/2023/03/medium_image-1677789497715.webp
END:VEVENT
END:VCALENDAR