BEGIN:VCALENDAR
VERSION:2.0
PRODID:-//Vaughn Forest Church - ECPv6.15.20//NONSGML v1.0//EN
CALSCALE:GREGORIAN
METHOD:PUBLISH
X-ORIGINAL-URL:https://vaughnforest.com
X-WR-CALDESC:Events for Vaughn Forest Church
REFRESH-INTERVAL;VALUE=DURATION:PT1H
X-Robots-Tag:noindex
X-PUBLISHED-TTL:PT1H
BEGIN:VTIMEZONE
TZID:America/Chicago
BEGIN:DAYLIGHT
TZOFFSETFROM:-0600
TZOFFSETTO:-0500
TZNAME:CDT
DTSTART:20220313T080000
END:DAYLIGHT
BEGIN:STANDARD
TZOFFSETFROM:-0500
TZOFFSETTO:-0600
TZNAME:CST
DTSTART:20221106T070000
END:STANDARD
BEGIN:DAYLIGHT
TZOFFSETFROM:-0600
TZOFFSETTO:-0500
TZNAME:CDT
DTSTART:20230312T080000
END:DAYLIGHT
BEGIN:STANDARD
TZOFFSETFROM:-0500
TZOFFSETTO:-0600
TZNAME:CST
DTSTART:20231105T070000
END:STANDARD
BEGIN:DAYLIGHT
TZOFFSETFROM:-0600
TZOFFSETTO:-0500
TZNAME:CDT
DTSTART:20240310T080000
END:DAYLIGHT
BEGIN:STANDARD
TZOFFSETFROM:-0500
TZOFFSETTO:-0600
TZNAME:CST
DTSTART:20241103T070000
END:STANDARD
END:VTIMEZONE
BEGIN:VEVENT
DTSTART;TZID=America/Chicago:20230716T093000
DTEND;TZID=America/Chicago:20230716T103000
DTSTAMP:20260422T163635
CREATED:20230621T214732Z
LAST-MODIFIED:20230622T132610Z
UID:10000288-1689499800-1689503400@vaughnforest.com
SUMMARY:Military Connect
DESCRIPTION:If you are a Military Family who is new to the Montgomery/Pike Road area\, or just new to Vaughn Forest Church\, then we invite you to join us for Military Connect! Military Connect is a short-term Life Group lasting 8 week (starting on July 16 and lasting until September 3) designed to help you get connected and at home here at VFC and the River Region. This group will meet at 9:30 AM each Sunday during that time and culminate with our Life Group sign up in the Fall. We hope you will join us!\nFor more information about Military Connect\, please email Pastor Hardy by clicking here.
URL:https://vaughnforest.com/event/military-connect/2023-07-16/
LOCATION:Vaughn Forest Church\, 8660 Vaughn Road\, Montgomery\, AL\, 36117\, United States
CATEGORIES:Adults,Life Groups
ATTACH;FMTTYPE=image/webp:https://vaughnforest.com/wp-content/uploads/2023/06/MilitaryConnectTitle.webp
ORGANIZER;CN="Chad Boak":MAILTO:chad.boak@vaughnforest.com
GEO:32.3370911;-86.1466101
X-APPLE-STRUCTURED-LOCATION;VALUE=URI;X-ADDRESS=Vaughn Forest Church 8660 Vaughn Road Montgomery AL 36117 United States;X-APPLE-RADIUS=500;X-TITLE=8660 Vaughn Road:geo:-86.1466101,32.3370911
END:VEVENT
BEGIN:VEVENT
DTSTART;TZID=America/Chicago:20230716T093000
DTEND;TZID=America/Chicago:20230716T120000
DTSTAMP:20260422T163635
CREATED:20230622T135035Z
LAST-MODIFIED:20230622T135055Z
UID:10000301-1689499800-1689508800@vaughnforest.com
SUMMARY:Baptism
DESCRIPTION:Here at Vaughn Forest\, we love seeing life-change through Jesus and we love seeing folks express that life-change through Baptism! If you are interested in being baptized\, we want to make that happen for you. Our next Baptism Sunday is coming up on Sunday\, July 16\, during our Sunday services at 9:30 and 11:00 AM.\nIf you would like to be baptized\, please fill out the form by clicking here and we will follow up with you.
URL:https://vaughnforest.com/event/baptism/
LOCATION:Vaughn Forest Church\, 8660 Vaughn Road\, Montgomery\, AL\, 36117\, United States
CATEGORIES:Worship
ATTACH;FMTTYPE=image/webp:https://vaughnforest.com/wp-content/uploads/2023/06/BaptismSundayTitleJuly23.webp
ORGANIZER;CN="Chad Boak":MAILTO:chad.boak@vaughnforest.com
GEO:32.3370911;-86.1466101
X-APPLE-STRUCTURED-LOCATION;VALUE=URI;X-ADDRESS=Vaughn Forest Church 8660 Vaughn Road Montgomery AL 36117 United States;X-APPLE-RADIUS=500;X-TITLE=8660 Vaughn Road:geo:-86.1466101,32.3370911
END:VEVENT
END:VCALENDAR