BEGIN:VCALENDAR
VERSION:2.0
PRODID:-//Vaughn Forest Church - ECPv6.15.20//NONSGML v1.0//EN
CALSCALE:GREGORIAN
METHOD:PUBLISH
X-ORIGINAL-URL:https://vaughnforest.com
X-WR-CALDESC:Events for Vaughn Forest Church
REFRESH-INTERVAL;VALUE=DURATION:PT1H
X-Robots-Tag:noindex
X-PUBLISHED-TTL:PT1H
BEGIN:VTIMEZONE
TZID:America/Chicago
BEGIN:DAYLIGHT
TZOFFSETFROM:-0600
TZOFFSETTO:-0500
TZNAME:CDT
DTSTART:20220313T080000
END:DAYLIGHT
BEGIN:STANDARD
TZOFFSETFROM:-0500
TZOFFSETTO:-0600
TZNAME:CST
DTSTART:20221106T070000
END:STANDARD
BEGIN:DAYLIGHT
TZOFFSETFROM:-0600
TZOFFSETTO:-0500
TZNAME:CDT
DTSTART:20230312T080000
END:DAYLIGHT
BEGIN:STANDARD
TZOFFSETFROM:-0500
TZOFFSETTO:-0600
TZNAME:CST
DTSTART:20231105T070000
END:STANDARD
BEGIN:DAYLIGHT
TZOFFSETFROM:-0600
TZOFFSETTO:-0500
TZNAME:CDT
DTSTART:20240310T080000
END:DAYLIGHT
BEGIN:STANDARD
TZOFFSETFROM:-0500
TZOFFSETTO:-0600
TZNAME:CST
DTSTART:20241103T070000
END:STANDARD
END:VTIMEZONE
BEGIN:VEVENT
DTSTART;TZID=America/Chicago:20230730T093000
DTEND;TZID=America/Chicago:20230730T103000
DTSTAMP:20260422T163635
CREATED:20230621T214732Z
LAST-MODIFIED:20230622T132610Z
UID:10000290-1690709400-1690713000@vaughnforest.com
SUMMARY:Military Connect
DESCRIPTION:If you are a Military Family who is new to the Montgomery/Pike Road area\, or just new to Vaughn Forest Church\, then we invite you to join us for Military Connect! Military Connect is a short-term Life Group lasting 8 week (starting on July 16 and lasting until September 3) designed to help you get connected and at home here at VFC and the River Region. This group will meet at 9:30 AM each Sunday during that time and culminate with our Life Group sign up in the Fall. We hope you will join us!\nFor more information about Military Connect\, please email Pastor Hardy by clicking here.
URL:https://vaughnforest.com/event/military-connect/2023-07-30/
LOCATION:Vaughn Forest Church\, 8660 Vaughn Road\, Montgomery\, AL\, 36117\, United States
CATEGORIES:Adults,Life Groups
ATTACH;FMTTYPE=image/webp:https://vaughnforest.com/wp-content/uploads/2023/06/MilitaryConnectTitle.webp
ORGANIZER;CN="Chad Boak":MAILTO:chad.boak@vaughnforest.com
GEO:32.3370911;-86.1466101
X-APPLE-STRUCTURED-LOCATION;VALUE=URI;X-ADDRESS=Vaughn Forest Church 8660 Vaughn Road Montgomery AL 36117 United States;X-APPLE-RADIUS=500;X-TITLE=8660 Vaughn Road:geo:-86.1466101,32.3370911
END:VEVENT
BEGIN:VEVENT
DTSTART;TZID=America/Chicago:20230730T121500
DTEND;TZID=America/Chicago:20230730T131500
DTSTAMP:20260422T163635
CREATED:20230622T132949Z
LAST-MODIFIED:20230622T134306Z
UID:10000298-1690719300-1690722900@vaughnforest.com
SUMMARY:Kid Faith
DESCRIPTION:Kid Faith is a class for kids in kindergarten through 5th grade along with their parents to learn about salvation and baptism. \nWhen?\nSunday\, July 30 from 12:15 PM to 1:15 PM.\nWhere?\n2nd Floor VF Kids Large Group Room.\nWho?\nKids\, in kindergarten through 5th grade\, who have expressed an interest in salvation and/or baptism\, along with at least one of their parents.\nWhy?\nBecoming a Christ follower is the most important decision your child can make and we know that parents want to be a part of the process.\nIn Kid Faith we will answer questions like: \nWho is God?\nWhat is sin?\nWho is Jesus and why did He have to die?\nWhat is baptism and why is it important?\nWe will answer all of these questions in a fun\, interactive\, and age-appropriate way. Also\, we will equip you as the parent to have more in-depth conversations with your child at home! \nTo register click here!
URL:https://vaughnforest.com/event/kid-faith-3/
LOCATION:Vaughn Forest Church\, 8660 Vaughn Road\, Montgomery\, AL\, 36117\, United States
CATEGORIES:Kid Faith
ATTACH;FMTTYPE=image/webp:https://vaughnforest.com/wp-content/uploads/2023/06/KidFaithLogo.webp
ORGANIZER;CN="Chad Boak":MAILTO:chad.boak@vaughnforest.com
GEO:32.3370911;-86.1466101
X-APPLE-STRUCTURED-LOCATION;VALUE=URI;X-ADDRESS=Vaughn Forest Church 8660 Vaughn Road Montgomery AL 36117 United States;X-APPLE-RADIUS=500;X-TITLE=8660 Vaughn Road:geo:-86.1466101,32.3370911
END:VEVENT
END:VCALENDAR