BEGIN:VCALENDAR
VERSION:2.0
PRODID:-//Vaughn Forest Church - ECPv6.15.20//NONSGML v1.0//EN
CALSCALE:GREGORIAN
METHOD:PUBLISH
X-ORIGINAL-URL:https://vaughnforest.com
X-WR-CALDESC:Events for Vaughn Forest Church
REFRESH-INTERVAL;VALUE=DURATION:PT1H
X-Robots-Tag:noindex
X-PUBLISHED-TTL:PT1H
BEGIN:VTIMEZONE
TZID:America/Chicago
BEGIN:DAYLIGHT
TZOFFSETFROM:-0600
TZOFFSETTO:-0500
TZNAME:CDT
DTSTART:20210314T080000
END:DAYLIGHT
BEGIN:STANDARD
TZOFFSETFROM:-0500
TZOFFSETTO:-0600
TZNAME:CST
DTSTART:20211107T070000
END:STANDARD
BEGIN:DAYLIGHT
TZOFFSETFROM:-0600
TZOFFSETTO:-0500
TZNAME:CDT
DTSTART:20220313T080000
END:DAYLIGHT
BEGIN:STANDARD
TZOFFSETFROM:-0500
TZOFFSETTO:-0600
TZNAME:CST
DTSTART:20221106T070000
END:STANDARD
BEGIN:DAYLIGHT
TZOFFSETFROM:-0600
TZOFFSETTO:-0500
TZNAME:CDT
DTSTART:20230312T080000
END:DAYLIGHT
BEGIN:STANDARD
TZOFFSETFROM:-0500
TZOFFSETTO:-0600
TZNAME:CST
DTSTART:20231105T070000
END:STANDARD
END:VTIMEZONE
BEGIN:VEVENT
DTSTART;VALUE=DATE:20221117
DTEND;VALUE=DATE:20221205
DTSTAMP:20260421T054019
CREATED:20221117T154448Z
LAST-MODIFIED:20221117T154522Z
UID:10000355-1668643200-1670198399@vaughnforest.com
SUMMARY:Clothes Collection for Reality and Truth Ministries
DESCRIPTION:Now until Dec 4 VFC is currently collecting new and used men’s clothing items to help support Reality and Truth Ministries. Please bring these items to the church this Sunday through December 4 and place them in the bin in the lobby.
URL:https://vaughnforest.com/event/clothes-collection-for-reality-and-truth-ministries-2/
LOCATION:Vaughn Forest Church\, 8660 Vaughn Road\, Montgomery\, AL\, 36117\, United States
CATEGORIES:Adults
ATTACH;FMTTYPE=image/jpeg:https://vaughnforest.com/wp-content/uploads/2022/11/RealityandTruthClothingDriveTitle.jpg
ORGANIZER;CN="Chad Boak":MAILTO:chad.boak@vaughnforest.com
GEO:32.3370911;-86.1466101
X-APPLE-STRUCTURED-LOCATION;VALUE=URI;X-ADDRESS=Vaughn Forest Church 8660 Vaughn Road Montgomery AL 36117 United States;X-APPLE-RADIUS=500;X-TITLE=8660 Vaughn Road:geo:-86.1466101,32.3370911
END:VEVENT
BEGIN:VEVENT
DTSTART;TZID=America/Chicago:20221201T110000
DTEND;TZID=America/Chicago:20221201T123000
DTSTAMP:20260421T054019
CREATED:20221117T155101Z
LAST-MODIFIED:20221117T155215Z
UID:10000357-1669892400-1669897800@vaughnforest.com
SUMMARY:Vintage Adults Christmas Lunch
DESCRIPTION:All Vintage Adults (ages 55+) are invited to our annual Vintage Adults Christmas Party on Thursday\, December 1\, at 11:00 AM. This is a catered event\, so please RSVP by clicking here.
URL:https://vaughnforest.com/event/vintage-adults-christmas-lunch/
LOCATION:Vaughn Forest Church\, 8660 Vaughn Road\, Montgomery\, AL\, 36117\, United States
CATEGORIES:Adults
ATTACH;FMTTYPE=image/jpeg:https://vaughnforest.com/wp-content/uploads/2022/11/VintageAdultsChristmasPartyTitle22.jpg
ORGANIZER;CN="Chad Boak":MAILTO:chad.boak@vaughnforest.com
GEO:32.3370911;-86.1466101
X-APPLE-STRUCTURED-LOCATION;VALUE=URI;X-ADDRESS=Vaughn Forest Church 8660 Vaughn Road Montgomery AL 36117 United States;X-APPLE-RADIUS=500;X-TITLE=8660 Vaughn Road:geo:-86.1466101,32.3370911
END:VEVENT
BEGIN:VEVENT
DTSTART;TZID=America/Chicago:20221204T110000
DTEND;TZID=America/Chicago:20221204T120000
DTSTAMP:20260421T054019
CREATED:20221117T155410Z
LAST-MODIFIED:20221117T183630Z
UID:10000358-1670151600-1670155200@vaughnforest.com
SUMMARY:VFC Membership Class
DESCRIPTION:If you are interested in becoming a member of Vaughn Forest Church then we invite you to our next Membership Class on Sunday\, December\, 4\, at 11:00 AM in the Next Steps Room. You can sign up for our Membership Class by clicking here.
URL:https://vaughnforest.com/event/vfc-membership-class/
LOCATION:Vaughn Forest Church\, 8660 Vaughn Road\, Montgomery\, AL\, 36117\, United States
CATEGORIES:Adults
ATTACH;FMTTYPE=image/jpeg:https://vaughnforest.com/wp-content/uploads/2022/11/MembershipClassDec22.jpg
ORGANIZER;CN="Chad Boak":MAILTO:chad.boak@vaughnforest.com
GEO:32.3370911;-86.1466101
X-APPLE-STRUCTURED-LOCATION;VALUE=URI;X-ADDRESS=Vaughn Forest Church 8660 Vaughn Road Montgomery AL 36117 United States;X-APPLE-RADIUS=500;X-TITLE=8660 Vaughn Road:geo:-86.1466101,32.3370911
END:VEVENT
BEGIN:VEVENT
DTSTART;TZID=America/Chicago:20221211T090000
DTEND;TZID=America/Chicago:20221211T123000
DTSTAMP:20260421T054019
CREATED:20221117T160323Z
LAST-MODIFIED:20221117T160413Z
UID:10000360-1670749200-1670761800@vaughnforest.com
SUMMARY:VFC Sunday Morning Christmas Party
DESCRIPTION:Everyone is invited to celebrate the Christmas Season with us at our Vaughn Forest Church Sunday Morning Christmas Party on December 11! From 9:00 AM -12:30 PM that day\, we will have a live nativity\, fun characters\, free family Christmas Photo booths with professional photographers\, Christmas snacks and goodies\, and a few more surprises! Also\, all Preschool Children are invited to wear their Christmas PJ’s and all kids grades K-5 are invited to wear their silly Christmas sweaters. This event is free\, so join us on Sunday\, December 11!
URL:https://vaughnforest.com/event/vfc-sunday-morning-christmas-party/
LOCATION:Vaughn Forest Church\, 8660 Vaughn Road\, Montgomery\, AL\, 36117\, United States
CATEGORIES:Adults,Children,High School,Life Groups,Middle School,Preschool,Students,Worship
ATTACH;FMTTYPE=image/jpeg:https://vaughnforest.com/wp-content/uploads/2022/11/VFCSundayMorningChristmasPartyTitleWeb.jpg
ORGANIZER;CN="Chad Boak":MAILTO:chad.boak@vaughnforest.com
GEO:32.3370911;-86.1466101
X-APPLE-STRUCTURED-LOCATION;VALUE=URI;X-ADDRESS=Vaughn Forest Church 8660 Vaughn Road Montgomery AL 36117 United States;X-APPLE-RADIUS=500;X-TITLE=8660 Vaughn Road:geo:-86.1466101,32.3370911
END:VEVENT
BEGIN:VEVENT
DTSTART;TZID=America/Chicago:20221211T160000
DTEND;TZID=America/Chicago:20221211T170000
DTSTAMP:20260421T054019
CREATED:20221117T161643Z
LAST-MODIFIED:20221117T183608Z
UID:10000362-1670774400-1670778000@vaughnforest.com
SUMMARY:Annual General Meeting
DESCRIPTION:Join us on Sunday\, December 11\, at 4:00 PM in the Main Auditorium for our Annual General Meeting. We will go over next year’s budget\, hear from Pastor Adam\, and celebrate all that God has done through VFC in 2022.
URL:https://vaughnforest.com/event/annual-general-meeting/
LOCATION:Vaughn Forest Church\, 8660 Vaughn Road\, Montgomery\, AL\, 36117\, United States
CATEGORIES:Adults,Worship
ATTACH;FMTTYPE=image/jpeg:https://vaughnforest.com/wp-content/uploads/2022/11/AGM22Title.jpg
ORGANIZER;CN="Chad Boak":MAILTO:chad.boak@vaughnforest.com
GEO:32.3370911;-86.1466101
X-APPLE-STRUCTURED-LOCATION;VALUE=URI;X-ADDRESS=Vaughn Forest Church 8660 Vaughn Road Montgomery AL 36117 United States;X-APPLE-RADIUS=500;X-TITLE=8660 Vaughn Road:geo:-86.1466101,32.3370911
END:VEVENT
END:VCALENDAR