BEGIN:VCALENDAR
VERSION:2.0
PRODID:-//Vaughn Forest Church - ECPv6.15.20//NONSGML v1.0//EN
CALSCALE:GREGORIAN
METHOD:PUBLISH
X-ORIGINAL-URL:https://vaughnforest.com
X-WR-CALDESC:Events for Vaughn Forest Church
REFRESH-INTERVAL;VALUE=DURATION:PT1H
X-Robots-Tag:noindex
X-PUBLISHED-TTL:PT1H
BEGIN:VTIMEZONE
TZID:America/Chicago
BEGIN:DAYLIGHT
TZOFFSETFROM:-0600
TZOFFSETTO:-0500
TZNAME:CDT
DTSTART:20220313T080000
END:DAYLIGHT
BEGIN:STANDARD
TZOFFSETFROM:-0500
TZOFFSETTO:-0600
TZNAME:CST
DTSTART:20221106T070000
END:STANDARD
BEGIN:DAYLIGHT
TZOFFSETFROM:-0600
TZOFFSETTO:-0500
TZNAME:CDT
DTSTART:20230312T080000
END:DAYLIGHT
BEGIN:STANDARD
TZOFFSETFROM:-0500
TZOFFSETTO:-0600
TZNAME:CST
DTSTART:20231105T070000
END:STANDARD
BEGIN:DAYLIGHT
TZOFFSETFROM:-0600
TZOFFSETTO:-0500
TZNAME:CDT
DTSTART:20240310T080000
END:DAYLIGHT
BEGIN:STANDARD
TZOFFSETFROM:-0500
TZOFFSETTO:-0600
TZNAME:CST
DTSTART:20241103T070000
END:STANDARD
END:VTIMEZONE
BEGIN:VEVENT
DTSTART;TZID=America/Chicago:20230401T090000
DTEND;TZID=America/Chicago:20230401T120000
DTSTAMP:20260420T220347
CREATED:20230302T185224Z
LAST-MODIFIED:20230302T185720Z
UID:10000375-1680339600-1680350400@vaughnforest.com
SUMMARY:Beauty by Fire Spring Serve Day
DESCRIPTION:Everyone is invited to come and serve with our partner ministry Beauty By Fire on Saturday\, April 1\, at their Spring Serve Day. Bring your entire family and help us serve widows with light yard work and clean up\, shrub trimming\, laying pine straw\, planting flowers\, and getting rid of ant hills and wasp nests.
URL:https://vaughnforest.com/event/beauty-by-fire-spring-serve-day/
LOCATION:Vaughn Forest Church\, 8660 Vaughn Road\, Montgomery\, AL\, 36117\, United States
CATEGORIES:Adults,Children,Life Groups,Worship
ATTACH;FMTTYPE=image/webp:https://vaughnforest.com/wp-content/uploads/2023/03/SpringServeDayTitleWeb.webp
ORGANIZER;CN="Chad Boak":MAILTO:chad.boak@vaughnforest.com
GEO:32.3370911;-86.1466101
X-APPLE-STRUCTURED-LOCATION;VALUE=URI;X-ADDRESS=Vaughn Forest Church 8660 Vaughn Road Montgomery AL 36117 United States;X-APPLE-RADIUS=500;X-TITLE=8660 Vaughn Road:geo:-86.1466101,32.3370911
END:VEVENT
BEGIN:VEVENT
DTSTART;TZID=America/Chicago:20230402T093000
DTEND;TZID=America/Chicago:20230402T103000
DTSTAMP:20260420T220347
CREATED:20230314T223615Z
LAST-MODIFIED:20230329T152847Z
UID:10000376-1680427800-1680431400@vaughnforest.com
SUMMARY:Discover Vaughn Forest
DESCRIPTION:If you are new to Vaughn Forest and are wanting to learn a little bit more about our church\, then we invite you to join us for Discover Vaughn Forest on Sunday\, April 2\, at 9:30 AM in the Next Steps Room. Snacks are provided and childcare is available through our Kids Ministry.\nTo sign up\, click here.
URL:https://vaughnforest.com/event/discover-vaughn-forest-6/
LOCATION:Vaughn Forest Church\, 8660 Vaughn Road\, Montgomery\, AL\, 36117\, United States
CATEGORIES:Adults
ATTACH;FMTTYPE=image/webp:https://vaughnforest.com/wp-content/uploads/2023/03/DiscoverVFApril2023.webp
ORGANIZER;CN="Chad Boak":MAILTO:chad.boak@vaughnforest.com
GEO:32.3370911;-86.1466101
X-APPLE-STRUCTURED-LOCATION;VALUE=URI;X-ADDRESS=Vaughn Forest Church 8660 Vaughn Road Montgomery AL 36117 United States;X-APPLE-RADIUS=500;X-TITLE=8660 Vaughn Road:geo:-86.1466101,32.3370911
END:VEVENT
BEGIN:VEVENT
DTSTART;TZID=America/Chicago:20230416T110000
DTEND;TZID=America/Chicago:20230416T120000
DTSTAMP:20260420T220347
CREATED:20230301T183924Z
LAST-MODIFIED:20230329T152457Z
UID:10000373-1681642800-1681646400@vaughnforest.com
SUMMARY:VFC Membership Class
DESCRIPTION:If you are interested in becoming a member of Vaughn Forest Church then we invite you to join us at our next Membership Class on Sunday\, April 16\, at 11:00 AM in the Next Steps Room. \nMark your connection card this Sunday in church or click here to register today.
URL:https://vaughnforest.com/event/vfc-membership-class-3/
LOCATION:Vaughn Forest Church\, 8660 Vaughn Road\, Montgomery\, AL\, 36117\, United States
CATEGORIES:Adults,Worship
ATTACH;FMTTYPE=image/webp:https://vaughnforest.com/wp-content/uploads/2023/03/MembershipClassApril23.webp
ORGANIZER;CN="Chad Boak":MAILTO:chad.boak@vaughnforest.com
GEO:32.3370911;-86.1466101
X-APPLE-STRUCTURED-LOCATION;VALUE=URI;X-ADDRESS=Vaughn Forest Church 8660 Vaughn Road Montgomery AL 36117 United States;X-APPLE-RADIUS=500;X-TITLE=8660 Vaughn Road:geo:-86.1466101,32.3370911
END:VEVENT
BEGIN:VEVENT
DTSTART;TZID=America/Chicago:20230423T093000
DTEND;TZID=America/Chicago:20230423T103000
DTSTAMP:20260420T220347
CREATED:20230329T152804Z
LAST-MODIFIED:20230329T152804Z
UID:10000380-1682242200-1682245800@vaughnforest.com
SUMMARY:Discover Vaughn Forest
DESCRIPTION:If you are new to Vaughn Forest and are wanting to learn a little bit more about our church\, then we invite you to join us for Discover Vaughn Forest on Sunday\, April 23\, at 9:30 AM in the Next Steps Room. Snacks are provided and childcare is available through our Kids Ministry.\nTo sign up\, click here.
URL:https://vaughnforest.com/event/discover-vaughn-forest-7/
LOCATION:Vaughn Forest Church\, 8660 Vaughn Road\, Montgomery\, AL\, 36117\, United States
CATEGORIES:Adults
ATTACH;FMTTYPE=image/webp:https://vaughnforest.com/wp-content/uploads/2023/03/DiscoverVFApril2023.2.webp
ORGANIZER;CN="Chad Boak":MAILTO:chad.boak@vaughnforest.com
GEO:32.3370911;-86.1466101
X-APPLE-STRUCTURED-LOCATION;VALUE=URI;X-ADDRESS=Vaughn Forest Church 8660 Vaughn Road Montgomery AL 36117 United States;X-APPLE-RADIUS=500;X-TITLE=8660 Vaughn Road:geo:-86.1466101,32.3370911
END:VEVENT
END:VCALENDAR