BEGIN:VCALENDAR
VERSION:2.0
PRODID:-//Vaughn Forest Church - ECPv6.15.20//NONSGML v1.0//EN
CALSCALE:GREGORIAN
METHOD:PUBLISH
X-ORIGINAL-URL:https://vaughnforest.com
X-WR-CALDESC:Events for Vaughn Forest Church
REFRESH-INTERVAL;VALUE=DURATION:PT1H
X-Robots-Tag:noindex
X-PUBLISHED-TTL:PT1H
BEGIN:VTIMEZONE
TZID:America/Chicago
BEGIN:DAYLIGHT
TZOFFSETFROM:-0600
TZOFFSETTO:-0500
TZNAME:CDT
DTSTART:20220313T080000
END:DAYLIGHT
BEGIN:STANDARD
TZOFFSETFROM:-0500
TZOFFSETTO:-0600
TZNAME:CST
DTSTART:20221106T070000
END:STANDARD
BEGIN:DAYLIGHT
TZOFFSETFROM:-0600
TZOFFSETTO:-0500
TZNAME:CDT
DTSTART:20230312T080000
END:DAYLIGHT
BEGIN:STANDARD
TZOFFSETFROM:-0500
TZOFFSETTO:-0600
TZNAME:CST
DTSTART:20231105T070000
END:STANDARD
BEGIN:DAYLIGHT
TZOFFSETFROM:-0600
TZOFFSETTO:-0500
TZNAME:CDT
DTSTART:20240310T080000
END:DAYLIGHT
BEGIN:STANDARD
TZOFFSETFROM:-0500
TZOFFSETTO:-0600
TZNAME:CST
DTSTART:20241103T070000
END:STANDARD
END:VTIMEZONE
BEGIN:VEVENT
DTSTART;TZID=America/Chicago:20231105T173000
DTEND;TZID=America/Chicago:20231105T190000
DTSTAMP:20260420T102823
CREATED:20231004T215319Z
LAST-MODIFIED:20231004T215319Z
UID:10000400-1699205400-1699210800@vaughnforest.com
SUMMARY:Men's Ministry Wings and Football Night
DESCRIPTION:The VFC Men’s Ministry is inviting all men to join us on Sunday\, November 5th\, at 5:30 PM for our Wings and Football Night! Come and hang out with your buddies while eating some great wings and hearing a brief message from our Interim Teaching Pastor Brett Moore that we know will encourage and challenge you. Afterwards\, we will put football up on the big screen and you can stick around or head out at any point. The cost is $10 per person and we look forward to seeing you there!\nRegister by clicking here
URL:https://vaughnforest.com/event/mens-ministry-wings-and-football-night/
LOCATION:Vaughn Forest Church\, 8660 Vaughn Road\, Montgomery\, AL\, 36117\, United States
CATEGORIES:Adults
ATTACH;FMTTYPE=image/webp:https://vaughnforest.com/wp-content/uploads/2023/10/MensEvent1.webp
ORGANIZER;CN="Chad Boak":MAILTO:chad.boak@vaughnforest.com
GEO:32.3370911;-86.1466101
X-APPLE-STRUCTURED-LOCATION;VALUE=URI;X-ADDRESS=Vaughn Forest Church 8660 Vaughn Road Montgomery AL 36117 United States;X-APPLE-RADIUS=500;X-TITLE=8660 Vaughn Road:geo:-86.1466101,32.3370911
END:VEVENT
BEGIN:VEVENT
DTSTART;TZID=America/Chicago:20231109T180000
DTEND;TZID=America/Chicago:20231109T200000
DTSTAMP:20260420T102823
CREATED:20231004T215220Z
LAST-MODIFIED:20231004T215220Z
UID:10000399-1699552800-1699560000@vaughnforest.com
SUMMARY:Women's Ministry "Better Together" Fall Fellowship
DESCRIPTION:All women are invited to join us on Thursday\, November 9\, from 6:00-8:00 PM for our “Better Together” Fall Fellowship! This will be a relaxing time of being with friends\, learning how to put together and enjoy a charcuterie board (which you will then take home)\, and discussing how to find rest and keep priorities during the holiday season. The cost is $10 per person and includes snacks as well as charcuterie board and supplies.\nRegister by clicking here
URL:https://vaughnforest.com/event/womens-ministry-better-together-fall-fellowship/
LOCATION:Vaughn Forest Church\, 8660 Vaughn Road\, Montgomery\, AL\, 36117\, United States
CATEGORIES:Adults
ATTACH;FMTTYPE=image/webp:https://vaughnforest.com/wp-content/uploads/2023/10/WomensNightGraphic2-Presentation1.webp
ORGANIZER;CN="Chad Boak":MAILTO:chad.boak@vaughnforest.com
GEO:32.3370911;-86.1466101
X-APPLE-STRUCTURED-LOCATION;VALUE=URI;X-ADDRESS=Vaughn Forest Church 8660 Vaughn Road Montgomery AL 36117 United States;X-APPLE-RADIUS=500;X-TITLE=8660 Vaughn Road:geo:-86.1466101,32.3370911
END:VEVENT
BEGIN:VEVENT
DTSTART;TZID=America/Chicago:20231119T093000
DTEND;TZID=America/Chicago:20231119T110000
DTSTAMP:20260420T102823
CREATED:20231102T185408Z
LAST-MODIFIED:20231102T195922Z
UID:10000404-1700386200-1700391600@vaughnforest.com
SUMMARY:Baptism Sunday
DESCRIPTION:Here at Vaughn Forest\, we love seeing life-change through Jesus and we love seeing folks express that life-change through Baptism! If you are interested in being baptized\, we want to make that happen for you. Our next Baptism Sunday is coming up on Sunday\, November 19\, during our Sunday services at 9:30 and 11:00 AM.\nIf you would like to be baptized\, sign up by clicking here.
URL:https://vaughnforest.com/event/baptism-sunday-9/
LOCATION:AL
CATEGORIES:Adults
ATTACH;FMTTYPE=image/webp:https://vaughnforest.com/wp-content/uploads/2023/11/BaptismSundayTitleNov23.webp
END:VEVENT
END:VCALENDAR