BEGIN:VCALENDAR
VERSION:2.0
PRODID:-//Vaughn Forest Church - ECPv6.15.20//NONSGML v1.0//EN
CALSCALE:GREGORIAN
METHOD:PUBLISH
X-ORIGINAL-URL:https://vaughnforest.com
X-WR-CALDESC:Events for Vaughn Forest Church
REFRESH-INTERVAL;VALUE=DURATION:PT1H
X-Robots-Tag:noindex
X-PUBLISHED-TTL:PT1H
BEGIN:VTIMEZONE
TZID:America/Chicago
BEGIN:DAYLIGHT
TZOFFSETFROM:-0600
TZOFFSETTO:-0500
TZNAME:CDT
DTSTART:20220313T080000
END:DAYLIGHT
BEGIN:STANDARD
TZOFFSETFROM:-0500
TZOFFSETTO:-0600
TZNAME:CST
DTSTART:20221106T070000
END:STANDARD
BEGIN:DAYLIGHT
TZOFFSETFROM:-0600
TZOFFSETTO:-0500
TZNAME:CDT
DTSTART:20230312T080000
END:DAYLIGHT
BEGIN:STANDARD
TZOFFSETFROM:-0500
TZOFFSETTO:-0600
TZNAME:CST
DTSTART:20231105T070000
END:STANDARD
BEGIN:DAYLIGHT
TZOFFSETFROM:-0600
TZOFFSETTO:-0500
TZNAME:CDT
DTSTART:20240310T080000
END:DAYLIGHT
BEGIN:STANDARD
TZOFFSETFROM:-0500
TZOFFSETTO:-0600
TZNAME:CST
DTSTART:20241103T070000
END:STANDARD
END:VTIMEZONE
BEGIN:VEVENT
DTSTART;VALUE=DATE:20230205
DTEND;VALUE=DATE:20230206
DTSTAMP:20260421T024412
CREATED:20230121T225740Z
LAST-MODIFIED:20230121T225740Z
UID:10000367-1675555200-1675641599@vaughnforest.com
SUMMARY:Life Groups Begin
DESCRIPTION:Sign-up for our Spring 2023 Semester of Life Groups has begun! There is no better way to get connected and grow in your faith than being a part of a Life Group. We have many different options of groups available for you\, so you are sure to find one that fits your rhythm of life. To look through our groups and join one\, click here. Spots fill up fast\, so sign up for a group today!
URL:https://vaughnforest.com/event/life-groups-begin/
LOCATION:Vaughn Forest Church\, 8660 Vaughn Road\, Montgomery\, AL\, 36117\, United States
CATEGORIES:Adults
ATTACH;FMTTYPE=image/jpeg:https://vaughnforest.com/wp-content/uploads/2023/01/LifeGroupSocial.jpg
ORGANIZER;CN="Chad Boak":MAILTO:chad.boak@vaughnforest.com
GEO:32.3370911;-86.1466101
X-APPLE-STRUCTURED-LOCATION;VALUE=URI;X-ADDRESS=Vaughn Forest Church 8660 Vaughn Road Montgomery AL 36117 United States;X-APPLE-RADIUS=500;X-TITLE=8660 Vaughn Road:geo:-86.1466101,32.3370911
END:VEVENT
BEGIN:VEVENT
DTSTART;TZID=America/Chicago:20230205T093000
DTEND;TZID=America/Chicago:20230205T110000
DTSTAMP:20260421T024412
CREATED:20230121T223936Z
LAST-MODIFIED:20230121T223936Z
UID:10000365-1675589400-1675594800@vaughnforest.com
SUMMARY:New Message Series Begins - Weathering Life's Storms
DESCRIPTION:You and your family are invited to join us on Sunday\, February 5 at 9:30 or 11:00 AM\, at Vaughn Forest Church as we kick off a brand new series on the teachings of Jesus called “Weathering Life’s Storms.” So many of us have felt the strain of trying to stay on top of things as life throws us curveballs\, especially over the last few years. If that is you\, we have great news…that is normal! It may surprise you to know that even in the world we live in today\, God has some timeless wisdom to help you be successful and to relieve that extra stress that we all feel. \nIn this series\, we will take a look at some of the biggest issues that so many of us are facing today and in a very practical manner\, discover what God’s Word has to say about them…living with stress and anxiety\, what to do when financial hardships come your way\, coping with grief and loss\, leading your family in today’s world\, finding health in both your job and home life\, and more. \nEven in these crazy times we live in\, God cares so much for you and He wants you to know that He is greater than any circumstances you and your family may be facing. \nFor more info\, please email our Pastor of Ministries Chad Boak by clicking here. (chad.boak@vaughnforest.com)
URL:https://vaughnforest.com/event/new-message-series-begins-weathering-lifes-storms/
LOCATION:Vaughn Forest Church\, 8660 Vaughn Road\, Montgomery\, AL\, 36117\, United States
CATEGORIES:Adults,Children,High School,Life Groups,Middle School,Preschool,Students,Worship
ATTACH;FMTTYPE=image/jpeg:https://vaughnforest.com/wp-content/uploads/2023/01/WeatheringLifesStormsTitleFinal.jpg
ORGANIZER;CN="Chad Boak":MAILTO:chad.boak@vaughnforest.com
GEO:32.3370911;-86.1466101
X-APPLE-STRUCTURED-LOCATION;VALUE=URI;X-ADDRESS=Vaughn Forest Church 8660 Vaughn Road Montgomery AL 36117 United States;X-APPLE-RADIUS=500;X-TITLE=8660 Vaughn Road:geo:-86.1466101,32.3370911
END:VEVENT
END:VCALENDAR