BEGIN:VCALENDAR
VERSION:2.0
PRODID:-//Vaughn Forest Church - ECPv6.15.20//NONSGML v1.0//EN
CALSCALE:GREGORIAN
METHOD:PUBLISH
X-ORIGINAL-URL:https://vaughnforest.com
X-WR-CALDESC:Events for Vaughn Forest Church
REFRESH-INTERVAL;VALUE=DURATION:PT1H
X-Robots-Tag:noindex
X-PUBLISHED-TTL:PT1H
BEGIN:VTIMEZONE
TZID:America/Chicago
BEGIN:DAYLIGHT
TZOFFSETFROM:-0600
TZOFFSETTO:-0500
TZNAME:CDT
DTSTART:20220313T080000
END:DAYLIGHT
BEGIN:STANDARD
TZOFFSETFROM:-0500
TZOFFSETTO:-0600
TZNAME:CST
DTSTART:20221106T070000
END:STANDARD
BEGIN:DAYLIGHT
TZOFFSETFROM:-0600
TZOFFSETTO:-0500
TZNAME:CDT
DTSTART:20230312T080000
END:DAYLIGHT
BEGIN:STANDARD
TZOFFSETFROM:-0500
TZOFFSETTO:-0600
TZNAME:CST
DTSTART:20231105T070000
END:STANDARD
BEGIN:DAYLIGHT
TZOFFSETFROM:-0600
TZOFFSETTO:-0500
TZNAME:CDT
DTSTART:20240310T080000
END:DAYLIGHT
BEGIN:STANDARD
TZOFFSETFROM:-0500
TZOFFSETTO:-0600
TZNAME:CST
DTSTART:20241103T070000
END:STANDARD
END:VTIMEZONE
BEGIN:VEVENT
DTSTART;TZID=America/Chicago:20231203T090000
DTEND;TZID=America/Chicago:20231203T123000
DTSTAMP:20260420T103131
CREATED:20231101T202417Z
LAST-MODIFIED:20231101T202641Z
UID:10000403-1701594000-1701606600@vaughnforest.com
SUMMARY:Sunday Morning Christmas Party
DESCRIPTION:Everyone is invited to celebrate the Christmas Season with us at our Vaughn Forest Church Sunday Morning Christmas Party on December 3! From 9:00 AM -12:30 PM that day\, we will have a live nativity\, fun characters\, free family Christmas Photo booths with professional photographers\, Christmas snacks and goodies\, and a few more surprises!\nAlso\, all Preschool Children are invited to wear their Christmas PJ’s and all kids grades K-5 are invited to wear their silly Christmas sweaters. This event is free\, so join us on Sunday\, December 3!
URL:https://vaughnforest.com/event/sunday-morning-christmas-party/
LOCATION:Vaughn Forest Church\, 8660 Vaughn Road\, Montgomery\, AL\, 36117\, United States
CATEGORIES:Adults
ATTACH;FMTTYPE=image/webp:https://vaughnforest.com/wp-content/uploads/2023/11/VFCSundayMorningChristmasPartyTitleWeb1.webp
ORGANIZER;CN="Chad Boak":MAILTO:chad.boak@vaughnforest.com
GEO:32.3370911;-86.1466101
X-APPLE-STRUCTURED-LOCATION;VALUE=URI;X-ADDRESS=Vaughn Forest Church 8660 Vaughn Road Montgomery AL 36117 United States;X-APPLE-RADIUS=500;X-TITLE=8660 Vaughn Road:geo:-86.1466101,32.3370911
END:VEVENT
BEGIN:VEVENT
DTSTART;TZID=America/Chicago:20231203T160000
DTEND;TZID=America/Chicago:20231203T170000
DTSTAMP:20260420T103131
CREATED:20231101T202152Z
LAST-MODIFIED:20231101T202152Z
UID:10000402-1701619200-1701622800@vaughnforest.com
SUMMARY:Annual General Meeting
DESCRIPTION:All VFC Members are invited to join us on Sunday\, December 3\, at 4:00 PM in the Main Auditorium for our Annual General Meeting. We will go over next year’s budget\, hear from our Pastoral Leadership Team\, and celebrate all that God has done through VFC in 2023.
URL:https://vaughnforest.com/event/annual-general-meeting-2/
LOCATION:Vaughn Forest Church\, 8660 Vaughn Road\, Montgomery\, AL\, 36117\, United States
CATEGORIES:Adults,Life Groups
ATTACH;FMTTYPE=image/webp:https://vaughnforest.com/wp-content/uploads/2023/11/AGM23Title.webp
ORGANIZER;CN="Chad Boak":MAILTO:chad.boak@vaughnforest.com
GEO:32.3370911;-86.1466101
X-APPLE-STRUCTURED-LOCATION;VALUE=URI;X-ADDRESS=Vaughn Forest Church 8660 Vaughn Road Montgomery AL 36117 United States;X-APPLE-RADIUS=500;X-TITLE=8660 Vaughn Road:geo:-86.1466101,32.3370911
END:VEVENT
END:VCALENDAR