BEGIN:VCALENDAR
VERSION:2.0
PRODID:-//Vaughn Forest Church - ECPv6.15.20//NONSGML v1.0//EN
CALSCALE:GREGORIAN
METHOD:PUBLISH
X-ORIGINAL-URL:https://vaughnforest.com
X-WR-CALDESC:Events for Vaughn Forest Church
REFRESH-INTERVAL;VALUE=DURATION:PT1H
X-Robots-Tag:noindex
X-PUBLISHED-TTL:PT1H
BEGIN:VTIMEZONE
TZID:America/Chicago
BEGIN:DAYLIGHT
TZOFFSETFROM:-0600
TZOFFSETTO:-0500
TZNAME:CDT
DTSTART:20230312T080000
END:DAYLIGHT
BEGIN:STANDARD
TZOFFSETFROM:-0500
TZOFFSETTO:-0600
TZNAME:CST
DTSTART:20231105T070000
END:STANDARD
BEGIN:DAYLIGHT
TZOFFSETFROM:-0600
TZOFFSETTO:-0500
TZNAME:CDT
DTSTART:20240310T080000
END:DAYLIGHT
BEGIN:STANDARD
TZOFFSETFROM:-0500
TZOFFSETTO:-0600
TZNAME:CST
DTSTART:20241103T070000
END:STANDARD
BEGIN:DAYLIGHT
TZOFFSETFROM:-0600
TZOFFSETTO:-0500
TZNAME:CDT
DTSTART:20250309T080000
END:DAYLIGHT
BEGIN:STANDARD
TZOFFSETFROM:-0500
TZOFFSETTO:-0600
TZNAME:CST
DTSTART:20251102T070000
END:STANDARD
BEGIN:DAYLIGHT
TZOFFSETFROM:-0600
TZOFFSETTO:-0500
TZNAME:CDT
DTSTART:20260308T080000
END:DAYLIGHT
BEGIN:STANDARD
TZOFFSETFROM:-0500
TZOFFSETTO:-0600
TZNAME:CST
DTSTART:20261101T070000
END:STANDARD
END:VTIMEZONE
BEGIN:VEVENT
DTSTART;TZID=America/Chicago:20240308T183000
DTEND;TZID=America/Chicago:20240308T200000
DTSTAMP:20260420T222652
CREATED:20240214T155036Z
LAST-MODIFIED:20240214T155036Z
UID:10000418-1709922600-1709928000@vaughnforest.com
SUMMARY:VFC Father/Daughter Dance
DESCRIPTION:Calling all VF Fathers and Daughters – Get ready for our Father Daughter Dance!\nVF Kids is so excited to be hosting our first VF Kids Ministry Father Daughter Dance on March 8th! Join us for a fun evening packed full of dancing\, fun and fellowship! We can’t wait for you to join us!\nWHO? All girls ages 4 to 11 and their Fathers\nWHEN? Friday March 8th from 6:30 to 8:00 p.m.\nCOST? There is a $5 ticket per person to cover our refreshments\nRegister online by clicking here.
URL:https://vaughnforest.com/event/vfc-father-daughter-dance/
LOCATION:Vaughn Forest Church\, 8660 Vaughn Road\, Montgomery\, AL\, 36117\, United States
CATEGORIES:Adults,Kid Faith
ATTACH;FMTTYPE=image/webp:https://vaughnforest.com/wp-content/uploads/2024/02/Father-Daughter-Square-Image.webp
ORGANIZER;CN="Chad Boak":MAILTO:chad.boak@vaughnforest.com
GEO:32.3370911;-86.1466101
X-APPLE-STRUCTURED-LOCATION;VALUE=URI;X-ADDRESS=Vaughn Forest Church 8660 Vaughn Road Montgomery AL 36117 United States;X-APPLE-RADIUS=500;X-TITLE=8660 Vaughn Road:geo:-86.1466101,32.3370911
END:VEVENT
BEGIN:VEVENT
DTSTART;TZID=America/Chicago:20240316T090000
DTEND;TZID=America/Chicago:20240316T120000
DTSTAMP:20260420T222652
CREATED:20240214T161620Z
LAST-MODIFIED:20240214T161744Z
UID:10000420-1710579600-1710590400@vaughnforest.com
SUMMARY:Beauty By Fire Spring Serve Day
DESCRIPTION:If you are interested in serving widows by helping with yard work through our partner ministry Beauty by Fire at their Spring Serve Day\, then please email Brooke Freeman by clicking here.
URL:https://vaughnforest.com/event/beauty-by-fire-spring-serve-day-2/
LOCATION:Vaughn Forest Church\, 8660 Vaughn Road\, Montgomery\, AL\, 36117\, United States
CATEGORIES:Adults
ATTACH;FMTTYPE=image/webp:https://vaughnforest.com/wp-content/uploads/2024/02/SpringServeDayTitle24.webp
ORGANIZER;CN="Chad Boak":MAILTO:chad.boak@vaughnforest.com
GEO:32.3370911;-86.1466101
X-APPLE-STRUCTURED-LOCATION;VALUE=URI;X-ADDRESS=Vaughn Forest Church 8660 Vaughn Road Montgomery AL 36117 United States;X-APPLE-RADIUS=500;X-TITLE=8660 Vaughn Road:geo:-86.1466101,32.3370911
END:VEVENT
BEGIN:VEVENT
DTSTART;TZID=America/Chicago:20240317T093000
DTEND;TZID=America/Chicago:20240317T230000
DTSTAMP:20260420T222652
CREATED:20240221T175801Z
LAST-MODIFIED:20240221T175801Z
UID:10000422-1710667800-1710716400@vaughnforest.com
SUMMARY:VFC Membership Class
DESCRIPTION:If you are interested in becoming a member of Vaughn Forest Church then we invite you to join us at our next Membership Class this Sunday\, March 17\, at 9:30 AM in the Next Steps Room. To sign up for Membership Class\, click here.
URL:https://vaughnforest.com/event/vfc-membership-class-7/
LOCATION:Vaughn Forest Church\, 8660 Vaughn Road\, Montgomery\, AL\, 36117\, United States
CATEGORIES:Adults
ATTACH;FMTTYPE=image/webp:https://vaughnforest.com/wp-content/uploads/2023/12/MembershipClassTitleGeneric.webp
ORGANIZER;CN="Chad Boak":MAILTO:chad.boak@vaughnforest.com
GEO:32.3370911;-86.1466101
X-APPLE-STRUCTURED-LOCATION;VALUE=URI;X-ADDRESS=Vaughn Forest Church 8660 Vaughn Road Montgomery AL 36117 United States;X-APPLE-RADIUS=500;X-TITLE=8660 Vaughn Road:geo:-86.1466101,32.3370911
END:VEVENT
BEGIN:VEVENT
DTSTART;TZID=America/Chicago:20240317T160000
DTEND;TZID=America/Chicago:20240317T173000
DTSTAMP:20260420T222652
CREATED:20240214T155754Z
LAST-MODIFIED:20240214T155809Z
UID:10000419-1710691200-1710696600@vaughnforest.com
SUMMARY:Mom and Son Nerf Wars
DESCRIPTION:Moms and Sons are you ready? VF Kids Ministry is hosting a Nerf War!\nMom’s bring your sons ages Kindergarten through 5th grade\nSunday March 17th from 4:00 to 5:30 PM!\nWe have plenty of nerf guns and ammo\, but feel free to bring your own if you’d prefer!
URL:https://vaughnforest.com/event/mom-and-son-nerf-wars/
LOCATION:Vaughn Forest Church\, 8660 Vaughn Road\, Montgomery\, AL\, 36117\, United States
CATEGORIES:Adults,Children
ATTACH;FMTTYPE=image/webp:https://vaughnforest.com/wp-content/uploads/2024/02/Square-Image-MomSon-Nerf.webp
ORGANIZER;CN="Chad Boak":MAILTO:chad.boak@vaughnforest.com
GEO:32.3370911;-86.1466101
X-APPLE-STRUCTURED-LOCATION;VALUE=URI;X-ADDRESS=Vaughn Forest Church 8660 Vaughn Road Montgomery AL 36117 United States;X-APPLE-RADIUS=500;X-TITLE=8660 Vaughn Road:geo:-86.1466101,32.3370911
END:VEVENT
BEGIN:VEVENT
DTSTART;TZID=America/Chicago:20241103T093000
DTEND;TZID=America/Chicago:20241103T123000
DTSTAMP:20260420T222652
CREATED:20241008T214853Z
LAST-MODIFIED:20241008T214853Z
UID:10000350-1730626200-1730637000@vaughnforest.com
SUMMARY:Widows Thanksgiving Meals
DESCRIPTION:Vaughn Forest Church is partnering with Beauty by Fire Ministries for their annual Thanksgiving Service project. They are planning to serve 175 Thanksgiving meals this year to widows in the River Region\, and we want you to get involved! \nHere’s how you can help:\n• Make cakes\n• Prep green bean casseroles\n• Donate money for hams ($25 per ham)\n• Volunteer the day of our Thanksgiving Blessing for Widows on Tuesday\, November 26 \nVisit the Beauty by Fire table in the Lobby on Sundays\, November 3 and 10\, to help out!\nReturn items to Vaughn Forest Church: Tuesday\, November 26\, between 3:00-5:00 PM
URL:https://vaughnforest.com/event/widows-thanksgiving-meals/2024-11-03/
LOCATION:Vaughn Forest Church\, 8660 Vaughn Road\, Montgomery\, AL\, 36117\, United States
CATEGORIES:Adults
ATTACH;FMTTYPE=image/webp:https://vaughnforest.com/wp-content/uploads/2024/10/CaringForWidowsWeb.webp
ORGANIZER;CN="Chad Boak":MAILTO:chad.boak@vaughnforest.com
GEO:32.3370911;-86.1466101
X-APPLE-STRUCTURED-LOCATION;VALUE=URI;X-ADDRESS=Vaughn Forest Church 8660 Vaughn Road Montgomery AL 36117 United States;X-APPLE-RADIUS=500;X-TITLE=8660 Vaughn Road:geo:-86.1466101,32.3370911
END:VEVENT
BEGIN:VEVENT
DTSTART;TZID=America/Chicago:20241110T093000
DTEND;TZID=America/Chicago:20241110T123000
DTSTAMP:20260420T222652
CREATED:20241008T214853Z
LAST-MODIFIED:20241008T214853Z
UID:10000351-1731231000-1731241800@vaughnforest.com
SUMMARY:Widows Thanksgiving Meals
DESCRIPTION:Vaughn Forest Church is partnering with Beauty by Fire Ministries for their annual Thanksgiving Service project. They are planning to serve 175 Thanksgiving meals this year to widows in the River Region\, and we want you to get involved! \nHere’s how you can help:\n• Make cakes\n• Prep green bean casseroles\n• Donate money for hams ($25 per ham)\n• Volunteer the day of our Thanksgiving Blessing for Widows on Tuesday\, November 26 \nVisit the Beauty by Fire table in the Lobby on Sundays\, November 3 and 10\, to help out!\nReturn items to Vaughn Forest Church: Tuesday\, November 26\, between 3:00-5:00 PM
URL:https://vaughnforest.com/event/widows-thanksgiving-meals/2024-11-10/
LOCATION:Vaughn Forest Church\, 8660 Vaughn Road\, Montgomery\, AL\, 36117\, United States
CATEGORIES:Adults
ATTACH;FMTTYPE=image/webp:https://vaughnforest.com/wp-content/uploads/2024/10/CaringForWidowsWeb.webp
ORGANIZER;CN="Chad Boak":MAILTO:chad.boak@vaughnforest.com
GEO:32.3370911;-86.1466101
X-APPLE-STRUCTURED-LOCATION;VALUE=URI;X-ADDRESS=Vaughn Forest Church 8660 Vaughn Road Montgomery AL 36117 United States;X-APPLE-RADIUS=500;X-TITLE=8660 Vaughn Road:geo:-86.1466101,32.3370911
END:VEVENT
BEGIN:VEVENT
DTSTART;TZID=America/Chicago:20241110T170000
DTEND;TZID=America/Chicago:20241110T190000
DTSTAMP:20260420T222652
CREATED:20241008T215037Z
LAST-MODIFIED:20241008T215037Z
UID:10000352-1731258000-1731265200@vaughnforest.com
SUMMARY:VFC Men's Wing Night
DESCRIPTION:Men of all ages are invited to join us for a Wing Night on Sunday\, November 10\, from 5:30-7:00 PM at Vaughn Forest Church! Bring your family and friends as we eat some great wings cooked by our very own VFC men\, enjoy some time together\, and hear a brief word of encouragement from Pastor Jim. You will not want to miss this night! The cost is $10 per person and you can sign up by clicking here. We look forward to seeing you there!
URL:https://vaughnforest.com/event/vfc-mens-wing-night/
LOCATION:Vaughn Forest Church\, 8660 Vaughn Road\, Montgomery\, AL\, 36117\, United States
CATEGORIES:Adults
ATTACH;FMTTYPE=image/webp:https://vaughnforest.com/wp-content/uploads/2024/10/MensWingNightNov24Web.webp
ORGANIZER;CN="Chad Boak":MAILTO:chad.boak@vaughnforest.com
GEO:32.3370911;-86.1466101
X-APPLE-STRUCTURED-LOCATION;VALUE=URI;X-ADDRESS=Vaughn Forest Church 8660 Vaughn Road Montgomery AL 36117 United States;X-APPLE-RADIUS=500;X-TITLE=8660 Vaughn Road:geo:-86.1466101,32.3370911
END:VEVENT
BEGIN:VEVENT
DTSTART;TZID=America/Chicago:20241208T160000
DTEND;TZID=America/Chicago:20241208T170000
DTSTAMP:20260420T222652
CREATED:20241001T210602Z
LAST-MODIFIED:20241001T210602Z
UID:10000461-1733673600-1733677200@vaughnforest.com
SUMMARY:Annual General Meeting
DESCRIPTION:All VFC Members are invited to join us on Sunday\, December 8\, at 4:00 PM in the Main Auditorium for our Annual General Meeting. We will go over next year’s budget\, hear from Pastor Jim\, and celebrate all that God has done through VFC in 2024.
URL:https://vaughnforest.com/event/annual-general-meeting-3/
LOCATION:Vaughn Forest Church\, 8660 Vaughn Road\, Montgomery\, AL\, 36117\, United States
CATEGORIES:Adults
ATTACH;FMTTYPE=image/webp:https://vaughnforest.com/wp-content/uploads/2024/10/AGM24Title.webp
GEO:32.3370911;-86.1466101
X-APPLE-STRUCTURED-LOCATION;VALUE=URI;X-ADDRESS=Vaughn Forest Church 8660 Vaughn Road Montgomery AL 36117 United States;X-APPLE-RADIUS=500;X-TITLE=8660 Vaughn Road:geo:-86.1466101,32.3370911
END:VEVENT
BEGIN:VEVENT
DTSTART;TZID=America/Chicago:20250725T190000
DTEND;TZID=America/Chicago:20250725T203000
DTSTAMP:20260420T222652
CREATED:20250710T142051Z
LAST-MODIFIED:20250715T194120Z
UID:10000485-1753470000-1753475400@vaughnforest.com
SUMMARY:RUSH OF FOOLS LIVE
DESCRIPTION:🎶 Mark your calendars! Rush of Fools is coming Friday\, July 25 | 7PM — and it’s completely FREE! 🙌 \nDoors open at 6:30 PM for everyone\, but Vaughn Forest students & guests get VIP access at 6 PM with premium seating + a chance to meet the band! 🎤✨ \nDon’t miss this powerful night of worship hosted by our Student Ministry — invite your crew and come worship with us! 💥
URL:https://vaughnforest.com/event/rush-of-fools-live/
LOCATION:Vaughn Forest Church\, 8660 Vaughn Road\, Montgomery\, AL\, 36117\, United States
CATEGORIES:Adults,Students,Worship
ATTACH;FMTTYPE=image/jpeg:https://vaughnforest.com/wp-content/uploads/2025/07/ROF-Concert-7.25.25-scaled.jpg
ORGANIZER;CN="Chad Boak":MAILTO:chad.boak@vaughnforest.com
GEO:32.3370911;-86.1466101
X-APPLE-STRUCTURED-LOCATION;VALUE=URI;X-ADDRESS=Vaughn Forest Church 8660 Vaughn Road Montgomery AL 36117 United States;X-APPLE-RADIUS=500;X-TITLE=8660 Vaughn Road:geo:-86.1466101,32.3370911
END:VEVENT
END:VCALENDAR