BEGIN:VCALENDAR
VERSION:2.0
PRODID:-//Vaughn Forest Church - ECPv6.15.20//NONSGML v1.0//EN
CALSCALE:GREGORIAN
METHOD:PUBLISH
X-ORIGINAL-URL:https://vaughnforest.com
X-WR-CALDESC:Events for Vaughn Forest Church
REFRESH-INTERVAL;VALUE=DURATION:PT1H
X-Robots-Tag:noindex
X-PUBLISHED-TTL:PT1H
BEGIN:VTIMEZONE
TZID:America/Chicago
BEGIN:DAYLIGHT
TZOFFSETFROM:-0600
TZOFFSETTO:-0500
TZNAME:CDT
DTSTART:20220313T080000
END:DAYLIGHT
BEGIN:STANDARD
TZOFFSETFROM:-0500
TZOFFSETTO:-0600
TZNAME:CST
DTSTART:20221106T070000
END:STANDARD
BEGIN:DAYLIGHT
TZOFFSETFROM:-0600
TZOFFSETTO:-0500
TZNAME:CDT
DTSTART:20230312T080000
END:DAYLIGHT
BEGIN:STANDARD
TZOFFSETFROM:-0500
TZOFFSETTO:-0600
TZNAME:CST
DTSTART:20231105T070000
END:STANDARD
BEGIN:DAYLIGHT
TZOFFSETFROM:-0600
TZOFFSETTO:-0500
TZNAME:CDT
DTSTART:20240310T080000
END:DAYLIGHT
BEGIN:STANDARD
TZOFFSETFROM:-0500
TZOFFSETTO:-0600
TZNAME:CST
DTSTART:20241103T070000
END:STANDARD
END:VTIMEZONE
BEGIN:VEVENT
DTSTART;TZID=America/Chicago:20230507T110000
DTEND;TZID=America/Chicago:20230507T123000
DTSTAMP:20260422T150610
CREATED:20230425T154146Z
LAST-MODIFIED:20230425T154146Z
UID:10000279-1683457200-1683462600@vaughnforest.com
SUMMARY:Graduate Recognition Sunday
DESCRIPTION:We will be recognizing our Graduating High School Seniors on Sunday\, May 7\, during our 11:00 AM service. We want to make sure we celebrate our Graduating High School Seniors for all of their accomplishments and pray over them as they step into the next phase of life. There will also be a catered lunch for our seniors and their family after the service.\nIf you have a Graduating High School Senior and would like to be a part of this day\, please sign up by clicking here.
URL:https://vaughnforest.com/event/graduate-recognition-sunday-2/
LOCATION:Vaughn Forest Church\, 8660 Vaughn Road\, Montgomery\, AL\, 36117\, United States
CATEGORIES:High School
ATTACH;FMTTYPE=image/webp:https://vaughnforest.com/wp-content/uploads/2023/04/GraduateTitle23.webp
GEO:32.3370911;-86.1466101
X-APPLE-STRUCTURED-LOCATION;VALUE=URI;X-ADDRESS=Vaughn Forest Church 8660 Vaughn Road Montgomery AL 36117 United States;X-APPLE-RADIUS=500;X-TITLE=8660 Vaughn Road:geo:-86.1466101,32.3370911
END:VEVENT
BEGIN:VEVENT
DTSTART;TZID=America/Chicago:20230514T090000
DTEND;TZID=America/Chicago:20230514T123000
DTSTAMP:20260422T150610
CREATED:20230329T162206Z
LAST-MODIFIED:20230330T194750Z
UID:10000382-1684054800-1684067400@vaughnforest.com
SUMMARY:Mother's Day
DESCRIPTION:Join us for Mother’s Day at Vaughn Forest Church on Sunday\, May 14! All morning long\, we will have professional photographers available for you to take free family portraits in our great photo booths here at VFC and they will be uploaded online later for you to download high-res images of your family. We cannot wait to celebrate all the Moms in our lives with you on Sunday\, May 14!
URL:https://vaughnforest.com/event/mothers-day-2/
LOCATION:Vaughn Forest Church\, 8660 Vaughn Road\, Montgomery\, AL\, 36117\, United States
CATEGORIES:Adults,Children,High School,Life Groups,Middle School,Preschool,Students,Worship
ATTACH;FMTTYPE=image/webp:https://vaughnforest.com/wp-content/uploads/2023/03/MothersDayTitle2023Correct.webp
ORGANIZER;CN="Chad Boak":MAILTO:chad.boak@vaughnforest.com
GEO:32.3370911;-86.1466101
X-APPLE-STRUCTURED-LOCATION;VALUE=URI;X-ADDRESS=Vaughn Forest Church 8660 Vaughn Road Montgomery AL 36117 United States;X-APPLE-RADIUS=500;X-TITLE=8660 Vaughn Road:geo:-86.1466101,32.3370911
END:VEVENT
BEGIN:VEVENT
DTSTART;TZID=America/Chicago:20230514T093000
DTEND;TZID=America/Chicago:20230514T120000
DTSTAMP:20260422T150610
CREATED:20230329T161825Z
LAST-MODIFIED:20230330T194604Z
UID:10000381-1684056600-1684065600@vaughnforest.com
SUMMARY:Child Dedication On Mother's Day
DESCRIPTION:On Mother’s Day\, May 14\, we will be hosting a special time of Child Dedication during our Sunday Services at 9:30 and 11:00 AM. If you are interested in dedicating your child on that day please contact our Kids Minister Morgan Bishop by clicking here. She will get you all the info you need to get signed up.
URL:https://vaughnforest.com/event/child-dedication-on-mothers-day/
LOCATION:Vaughn Forest Church\, 8660 Vaughn Road\, Montgomery\, AL\, 36117\, United States
ATTACH;FMTTYPE=image/webp:https://vaughnforest.com/wp-content/uploads/2023/03/ChildDedicationMay23Correct-scaled.webp
ORGANIZER;CN="Chad Boak":MAILTO:chad.boak@vaughnforest.com
GEO:32.3370911;-86.1466101
X-APPLE-STRUCTURED-LOCATION;VALUE=URI;X-ADDRESS=Vaughn Forest Church 8660 Vaughn Road Montgomery AL 36117 United States;X-APPLE-RADIUS=500;X-TITLE=8660 Vaughn Road:geo:-86.1466101,32.3370911
END:VEVENT
BEGIN:VEVENT
DTSTART;TZID=America/Chicago:20230521T093000
DTEND;TZID=America/Chicago:20230521T110000
DTSTAMP:20260422T150610
CREATED:20230425T154634Z
LAST-MODIFIED:20230425T154634Z
UID:10000281-1684661400-1684666800@vaughnforest.com
SUMMARY:Baptism Sunday
DESCRIPTION:Here at Vaughn Forest\, we love seeing life-change through Jesus and we love seeing folks express that life-change through Baptism! \nIf you are interested in being baptized\, we want to make that happen for you. Our next Baptism Sunday is coming up on Sunday\, May 21\, during our Sunday services at 9:30 and 11:00 AM. \nIf you would like to be baptized\, email Pastor Hardy by clicking here (hardy.sellers@vaughnforest.com) or sign up this Sunday on your connection card.
URL:https://vaughnforest.com/event/baptism-sunday-7/
LOCATION:Vaughn Forest Church\, 8660 Vaughn Road\, Montgomery\, AL\, 36117\, United States
ATTACH;FMTTYPE=image/webp:https://vaughnforest.com/wp-content/uploads/2023/04/BaptismSundayTitleMay21.webp
ORGANIZER;CN="Hardy Sellers":MAILTO:hardy.sellers@vaughnforest.com
GEO:32.3370911;-86.1466101
X-APPLE-STRUCTURED-LOCATION;VALUE=URI;X-ADDRESS=Vaughn Forest Church 8660 Vaughn Road Montgomery AL 36117 United States;X-APPLE-RADIUS=500;X-TITLE=8660 Vaughn Road:geo:-86.1466101,32.3370911
END:VEVENT
END:VCALENDAR