BEGIN:VCALENDAR
VERSION:2.0
PRODID:-//Vaughn Forest Church - ECPv6.15.20//NONSGML v1.0//EN
CALSCALE:GREGORIAN
METHOD:PUBLISH
X-ORIGINAL-URL:https://vaughnforest.com
X-WR-CALDESC:Events for Vaughn Forest Church
REFRESH-INTERVAL;VALUE=DURATION:PT1H
X-Robots-Tag:noindex
X-PUBLISHED-TTL:PT1H
BEGIN:VTIMEZONE
TZID:America/Chicago
BEGIN:DAYLIGHT
TZOFFSETFROM:-0600
TZOFFSETTO:-0500
TZNAME:CDT
DTSTART:20220313T080000
END:DAYLIGHT
BEGIN:STANDARD
TZOFFSETFROM:-0500
TZOFFSETTO:-0600
TZNAME:CST
DTSTART:20221106T070000
END:STANDARD
BEGIN:DAYLIGHT
TZOFFSETFROM:-0600
TZOFFSETTO:-0500
TZNAME:CDT
DTSTART:20230312T080000
END:DAYLIGHT
BEGIN:STANDARD
TZOFFSETFROM:-0500
TZOFFSETTO:-0600
TZNAME:CST
DTSTART:20231105T070000
END:STANDARD
BEGIN:DAYLIGHT
TZOFFSETFROM:-0600
TZOFFSETTO:-0500
TZNAME:CDT
DTSTART:20240310T080000
END:DAYLIGHT
BEGIN:STANDARD
TZOFFSETFROM:-0500
TZOFFSETTO:-0600
TZNAME:CST
DTSTART:20241103T070000
END:STANDARD
END:VTIMEZONE
BEGIN:VEVENT
DTSTART;TZID=America/Chicago:20230604T100000
DTEND;TZID=America/Chicago:20230604T110000
DTSTAMP:20260422T133213
CREATED:20230530T131633Z
LAST-MODIFIED:20230530T131633Z
UID:10000284-1685872800-1685876400@vaughnforest.com
SUMMARY:Pastor Adam Commissioning Service
DESCRIPTION:Join us for one worship service at Vaughn Forest Church this Sunday\, June 4 at 10:00 AM in the Main Auditorium. We will be celebrating Pastor Adam\, Morgan\, and the entire Bishop family as they step forward in obedience to the next season of ministry that God has called them to in North Carolina. We will all gather together as a Church Family to worship together\, pray for the Bishops\, and participate in a special commissioning time with the head of the search team that has brought the Bishops to their new season of ministry. Nursery and preschool will be available for younger children\, while kids (kindergarten through 5th grade) and students (6th-12th grade) will join us in the Main Auditorium for our time of family worship.
URL:https://vaughnforest.com/event/pastor-adam-commissioning-service/
LOCATION:Vaughn Forest Church\, 8660 Vaughn Road\, Montgomery\, AL\, 36117\, United States
ORGANIZER;CN="Chad Boak":MAILTO:chad.boak@vaughnforest.com
GEO:32.3370911;-86.1466101
X-APPLE-STRUCTURED-LOCATION;VALUE=URI;X-ADDRESS=Vaughn Forest Church 8660 Vaughn Road Montgomery AL 36117 United States;X-APPLE-RADIUS=500;X-TITLE=8660 Vaughn Road:geo:-86.1466101,32.3370911
END:VEVENT
BEGIN:VEVENT
DTSTART;TZID=America/Chicago:20230611T093000
DTEND;TZID=America/Chicago:20230611T103000
DTSTAMP:20260422T133213
CREATED:20230425T183946Z
LAST-MODIFIED:20230517T192101Z
UID:10000283-1686475800-1686479400@vaughnforest.com
SUMMARY:Discover Vaughn Forest
DESCRIPTION:If you are new to Vaughn Forest and are wanting to learn a little bit more about our church\, then we invite you to join us for Discover Vaughn Forest on Sunday\, June 11\, at 9:30 AM in the Next Steps Room. Snacks are provided and childcare is available through our Kids Ministry. \nTo sign up\, click here.
URL:https://vaughnforest.com/event/discover-vaughn-forest-8/
LOCATION:Vaughn Forest Church\, 8660 Vaughn Road\, Montgomery\, AL\, 36117\, United States
ATTACH;FMTTYPE=image/webp:https://vaughnforest.com/wp-content/uploads/2023/04/DiscoverVFJune23.webp
GEO:32.3370911;-86.1466101
X-APPLE-STRUCTURED-LOCATION;VALUE=URI;X-ADDRESS=Vaughn Forest Church 8660 Vaughn Road Montgomery AL 36117 United States;X-APPLE-RADIUS=500;X-TITLE=8660 Vaughn Road:geo:-86.1466101,32.3370911
END:VEVENT
END:VCALENDAR