BEGIN:VCALENDAR
VERSION:2.0
PRODID:-//Vaughn Forest Church - ECPv6.15.20//NONSGML v1.0//EN
CALSCALE:GREGORIAN
METHOD:PUBLISH
X-WR-CALNAME:Vaughn Forest Church
X-ORIGINAL-URL:https://vaughnforest.com
X-WR-CALDESC:Events for Vaughn Forest Church
REFRESH-INTERVAL;VALUE=DURATION:PT1H
X-Robots-Tag:noindex
X-PUBLISHED-TTL:PT1H
BEGIN:VTIMEZONE
TZID:America/Chicago
BEGIN:DAYLIGHT
TZOFFSETFROM:-0600
TZOFFSETTO:-0500
TZNAME:CDT
DTSTART:20220313T080000
END:DAYLIGHT
BEGIN:STANDARD
TZOFFSETFROM:-0500
TZOFFSETTO:-0600
TZNAME:CST
DTSTART:20221106T070000
END:STANDARD
BEGIN:DAYLIGHT
TZOFFSETFROM:-0600
TZOFFSETTO:-0500
TZNAME:CDT
DTSTART:20230312T080000
END:DAYLIGHT
BEGIN:STANDARD
TZOFFSETFROM:-0500
TZOFFSETTO:-0600
TZNAME:CST
DTSTART:20231105T070000
END:STANDARD
BEGIN:DAYLIGHT
TZOFFSETFROM:-0600
TZOFFSETTO:-0500
TZNAME:CDT
DTSTART:20240310T080000
END:DAYLIGHT
BEGIN:STANDARD
TZOFFSETFROM:-0500
TZOFFSETTO:-0600
TZNAME:CST
DTSTART:20241103T070000
END:STANDARD
END:VTIMEZONE
BEGIN:VEVENT
DTSTART;VALUE=DATE:20230801
DTEND;VALUE=DATE:20230809
DTSTAMP:20260420T153518
CREATED:20230622T140756Z
LAST-MODIFIED:20230622T140851Z
UID:10000385-1690848000-1691539199@vaughnforest.com
SUMMARY:Love Week
DESCRIPTION:Vaughn Forest Church is looking forward to serving our local Montgomery and Pike Road Community through Love Week! Starting Tuesday\, August 1st and going through Tuesday\, August 8th\, we will be serving our local community including schools\, individuals\, and others in need through yard work\, maintenance\, painting\, cleaning up\, and more. We have opportunities for all skill levels…expert\, novice\, and even opportunities for your whole family so we encourage you to get your kids involved. \nWe hope you and your family can serve alongside us! To sign up\, click here.
URL:https://vaughnforest.com/event/love-week/
LOCATION:Vaughn Forest Church\, 8660 Vaughn Road\, Montgomery\, AL\, 36117\, United States
CATEGORIES:Adults,Worship
ATTACH;FMTTYPE=image/webp:https://vaughnforest.com/wp-content/uploads/2023/06/LoveWeekTitle23.webp
ORGANIZER;CN="Chad Boak":MAILTO:chad.boak@vaughnforest.com
GEO:32.3370911;-86.1466101
X-APPLE-STRUCTURED-LOCATION;VALUE=URI;X-ADDRESS=Vaughn Forest Church 8660 Vaughn Road Montgomery AL 36117 United States;X-APPLE-RADIUS=500;X-TITLE=8660 Vaughn Road:geo:-86.1466101,32.3370911
END:VEVENT
BEGIN:VEVENT
DTSTART;TZID=America/Chicago:20230806T093000
DTEND;TZID=America/Chicago:20230806T103000
DTSTAMP:20260420T153518
CREATED:20230621T214732Z
LAST-MODIFIED:20230622T132610Z
UID:10000291-1691314200-1691317800@vaughnforest.com
SUMMARY:Military Connect
DESCRIPTION:If you are a Military Family who is new to the Montgomery/Pike Road area\, or just new to Vaughn Forest Church\, then we invite you to join us for Military Connect! Military Connect is a short-term Life Group lasting 8 week (starting on July 16 and lasting until September 3) designed to help you get connected and at home here at VFC and the River Region. This group will meet at 9:30 AM each Sunday during that time and culminate with our Life Group sign up in the Fall. We hope you will join us!\nFor more information about Military Connect\, please email Pastor Hardy by clicking here.
URL:https://vaughnforest.com/event/military-connect/2023-08-06/
LOCATION:Vaughn Forest Church\, 8660 Vaughn Road\, Montgomery\, AL\, 36117\, United States
CATEGORIES:Adults,Life Groups
ATTACH;FMTTYPE=image/webp:https://vaughnforest.com/wp-content/uploads/2023/06/MilitaryConnectTitle.webp
ORGANIZER;CN="Chad Boak":MAILTO:chad.boak@vaughnforest.com
GEO:32.3370911;-86.1466101
X-APPLE-STRUCTURED-LOCATION;VALUE=URI;X-ADDRESS=Vaughn Forest Church 8660 Vaughn Road Montgomery AL 36117 United States;X-APPLE-RADIUS=500;X-TITLE=8660 Vaughn Road:geo:-86.1466101,32.3370911
END:VEVENT
BEGIN:VEVENT
DTSTART;TZID=America/Chicago:20230813T080000
DTEND;TZID=America/Chicago:20230813T170000
DTSTAMP:20260420T153518
CREATED:20230813T143050Z
LAST-MODIFIED:20230811T143355Z
UID:10000390-1691913600-1691946000@vaughnforest.com
SUMMARY:Life Group Sign Up
DESCRIPTION:Sign-up for our Fall 2023 Semester of Life Groups has begun! There is no better way to get connected and grow in your faith than being a part of a Life Group. We have many different options of groups available for you\, so you are sure to find one that fits your rhythm of life. To look through our groups and join one\, click here. Spots fill up fast\, so sign up for a group today!
URL:https://vaughnforest.com/event/life-group-sign-up/2023-08-13/
LOCATION:Vaughn Forest Church\, 8660 Vaughn Road\, Montgomery\, AL\, 36117\, United States
CATEGORIES:Adults,Life Groups
ATTACH;FMTTYPE=image/webp:https://vaughnforest.com/wp-content/uploads/2023/08/LifeGroupShoutOutsFall23-1.webp
ORGANIZER;CN="Chad Boak":MAILTO:chad.boak@vaughnforest.com
GEO:32.3370911;-86.1466101
X-APPLE-STRUCTURED-LOCATION;VALUE=URI;X-ADDRESS=Vaughn Forest Church 8660 Vaughn Road Montgomery AL 36117 United States;X-APPLE-RADIUS=500;X-TITLE=8660 Vaughn Road:geo:-86.1466101,32.3370911
END:VEVENT
BEGIN:VEVENT
DTSTART;TZID=America/Chicago:20230813T093000
DTEND;TZID=America/Chicago:20230813T103000
DTSTAMP:20260420T153518
CREATED:20230621T214732Z
LAST-MODIFIED:20230622T132610Z
UID:10000292-1691919000-1691922600@vaughnforest.com
SUMMARY:Military Connect
DESCRIPTION:If you are a Military Family who is new to the Montgomery/Pike Road area\, or just new to Vaughn Forest Church\, then we invite you to join us for Military Connect! Military Connect is a short-term Life Group lasting 8 week (starting on July 16 and lasting until September 3) designed to help you get connected and at home here at VFC and the River Region. This group will meet at 9:30 AM each Sunday during that time and culminate with our Life Group sign up in the Fall. We hope you will join us!\nFor more information about Military Connect\, please email Pastor Hardy by clicking here.
URL:https://vaughnforest.com/event/military-connect/2023-08-13/
LOCATION:Vaughn Forest Church\, 8660 Vaughn Road\, Montgomery\, AL\, 36117\, United States
CATEGORIES:Adults,Life Groups
ATTACH;FMTTYPE=image/webp:https://vaughnforest.com/wp-content/uploads/2023/06/MilitaryConnectTitle.webp
ORGANIZER;CN="Chad Boak":MAILTO:chad.boak@vaughnforest.com
GEO:32.3370911;-86.1466101
X-APPLE-STRUCTURED-LOCATION;VALUE=URI;X-ADDRESS=Vaughn Forest Church 8660 Vaughn Road Montgomery AL 36117 United States;X-APPLE-RADIUS=500;X-TITLE=8660 Vaughn Road:geo:-86.1466101,32.3370911
END:VEVENT
BEGIN:VEVENT
DTSTART;TZID=America/Chicago:20230813T093000
DTEND;TZID=America/Chicago:20230813T113000
DTSTAMP:20260420T153518
CREATED:20230811T132820Z
LAST-MODIFIED:20230811T132820Z
UID:10000387-1691919000-1691926200@vaughnforest.com
SUMMARY:Discover Vaughn Forest
DESCRIPTION:If you are new to Vaughn Forest and are wanting to learn a little bit more about our church\, then we invite you to join us for Discover Vaughn Forest this Sunday\, August 13\, at 9:30 AM in the Next Steps Room. Snacks are provided and childcare is available through our Kids Ministry. To register\, click here.
URL:https://vaughnforest.com/event/discover-vaughn-forest-9/
LOCATION:Vaughn Forest Church\, 8660 Vaughn Road\, Montgomery\, AL\, 36117\, United States
CATEGORIES:Adults
ATTACH;FMTTYPE=image/webp:https://vaughnforest.com/wp-content/uploads/2023/08/DiscoverVFAugust23-1.webp
ORGANIZER;CN="Chad Boak":MAILTO:chad.boak@vaughnforest.com
GEO:32.3370911;-86.1466101
X-APPLE-STRUCTURED-LOCATION;VALUE=URI;X-ADDRESS=Vaughn Forest Church 8660 Vaughn Road Montgomery AL 36117 United States;X-APPLE-RADIUS=500;X-TITLE=8660 Vaughn Road:geo:-86.1466101,32.3370911
END:VEVENT
BEGIN:VEVENT
DTSTART;TZID=America/Chicago:20230820T080000
DTEND;TZID=America/Chicago:20230820T170000
DTSTAMP:20260420T153518
CREATED:20230813T143050Z
LAST-MODIFIED:20230811T143355Z
UID:10000391-1692518400-1692550800@vaughnforest.com
SUMMARY:Life Group Sign Up
DESCRIPTION:Sign-up for our Fall 2023 Semester of Life Groups has begun! There is no better way to get connected and grow in your faith than being a part of a Life Group. We have many different options of groups available for you\, so you are sure to find one that fits your rhythm of life. To look through our groups and join one\, click here. Spots fill up fast\, so sign up for a group today!
URL:https://vaughnforest.com/event/life-group-sign-up/2023-08-20/
LOCATION:Vaughn Forest Church\, 8660 Vaughn Road\, Montgomery\, AL\, 36117\, United States
CATEGORIES:Adults,Life Groups
ATTACH;FMTTYPE=image/webp:https://vaughnforest.com/wp-content/uploads/2023/08/LifeGroupShoutOutsFall23-1.webp
ORGANIZER;CN="Chad Boak":MAILTO:chad.boak@vaughnforest.com
GEO:32.3370911;-86.1466101
X-APPLE-STRUCTURED-LOCATION;VALUE=URI;X-ADDRESS=Vaughn Forest Church 8660 Vaughn Road Montgomery AL 36117 United States;X-APPLE-RADIUS=500;X-TITLE=8660 Vaughn Road:geo:-86.1466101,32.3370911
END:VEVENT
BEGIN:VEVENT
DTSTART;TZID=America/Chicago:20230820T093000
DTEND;TZID=America/Chicago:20230820T103000
DTSTAMP:20260420T153518
CREATED:20230621T214732Z
LAST-MODIFIED:20230622T132610Z
UID:10000293-1692523800-1692527400@vaughnforest.com
SUMMARY:Military Connect
DESCRIPTION:If you are a Military Family who is new to the Montgomery/Pike Road area\, or just new to Vaughn Forest Church\, then we invite you to join us for Military Connect! Military Connect is a short-term Life Group lasting 8 week (starting on July 16 and lasting until September 3) designed to help you get connected and at home here at VFC and the River Region. This group will meet at 9:30 AM each Sunday during that time and culminate with our Life Group sign up in the Fall. We hope you will join us!\nFor more information about Military Connect\, please email Pastor Hardy by clicking here.
URL:https://vaughnforest.com/event/military-connect/2023-08-20/
LOCATION:Vaughn Forest Church\, 8660 Vaughn Road\, Montgomery\, AL\, 36117\, United States
CATEGORIES:Adults,Life Groups
ATTACH;FMTTYPE=image/webp:https://vaughnforest.com/wp-content/uploads/2023/06/MilitaryConnectTitle.webp
ORGANIZER;CN="Chad Boak":MAILTO:chad.boak@vaughnforest.com
GEO:32.3370911;-86.1466101
X-APPLE-STRUCTURED-LOCATION;VALUE=URI;X-ADDRESS=Vaughn Forest Church 8660 Vaughn Road Montgomery AL 36117 United States;X-APPLE-RADIUS=500;X-TITLE=8660 Vaughn Road:geo:-86.1466101,32.3370911
END:VEVENT
BEGIN:VEVENT
DTSTART;TZID=America/Chicago:20230827T080000
DTEND;TZID=America/Chicago:20230827T170000
DTSTAMP:20260420T153519
CREATED:20230813T143050Z
LAST-MODIFIED:20230811T143355Z
UID:10000392-1693123200-1693155600@vaughnforest.com
SUMMARY:Life Group Sign Up
DESCRIPTION:Sign-up for our Fall 2023 Semester of Life Groups has begun! There is no better way to get connected and grow in your faith than being a part of a Life Group. We have many different options of groups available for you\, so you are sure to find one that fits your rhythm of life. To look through our groups and join one\, click here. Spots fill up fast\, so sign up for a group today!
URL:https://vaughnforest.com/event/life-group-sign-up/2023-08-27/
LOCATION:Vaughn Forest Church\, 8660 Vaughn Road\, Montgomery\, AL\, 36117\, United States
CATEGORIES:Adults,Life Groups
ATTACH;FMTTYPE=image/webp:https://vaughnforest.com/wp-content/uploads/2023/08/LifeGroupShoutOutsFall23-1.webp
ORGANIZER;CN="Chad Boak":MAILTO:chad.boak@vaughnforest.com
GEO:32.3370911;-86.1466101
X-APPLE-STRUCTURED-LOCATION;VALUE=URI;X-ADDRESS=Vaughn Forest Church 8660 Vaughn Road Montgomery AL 36117 United States;X-APPLE-RADIUS=500;X-TITLE=8660 Vaughn Road:geo:-86.1466101,32.3370911
END:VEVENT
BEGIN:VEVENT
DTSTART;TZID=America/Chicago:20230827T093000
DTEND;TZID=America/Chicago:20230827T103000
DTSTAMP:20260420T153519
CREATED:20230621T214732Z
LAST-MODIFIED:20230622T132610Z
UID:10000294-1693128600-1693132200@vaughnforest.com
SUMMARY:Military Connect
DESCRIPTION:If you are a Military Family who is new to the Montgomery/Pike Road area\, or just new to Vaughn Forest Church\, then we invite you to join us for Military Connect! Military Connect is a short-term Life Group lasting 8 week (starting on July 16 and lasting until September 3) designed to help you get connected and at home here at VFC and the River Region. This group will meet at 9:30 AM each Sunday during that time and culminate with our Life Group sign up in the Fall. We hope you will join us!\nFor more information about Military Connect\, please email Pastor Hardy by clicking here.
URL:https://vaughnforest.com/event/military-connect/2023-08-27/
LOCATION:Vaughn Forest Church\, 8660 Vaughn Road\, Montgomery\, AL\, 36117\, United States
CATEGORIES:Adults,Life Groups
ATTACH;FMTTYPE=image/webp:https://vaughnforest.com/wp-content/uploads/2023/06/MilitaryConnectTitle.webp
ORGANIZER;CN="Chad Boak":MAILTO:chad.boak@vaughnforest.com
GEO:32.3370911;-86.1466101
X-APPLE-STRUCTURED-LOCATION;VALUE=URI;X-ADDRESS=Vaughn Forest Church 8660 Vaughn Road Montgomery AL 36117 United States;X-APPLE-RADIUS=500;X-TITLE=8660 Vaughn Road:geo:-86.1466101,32.3370911
END:VEVENT
BEGIN:VEVENT
DTSTART;TZID=America/Chicago:20230827T093000
DTEND;TZID=America/Chicago:20230827T103000
DTSTAMP:20260420T153519
CREATED:20230811T142934Z
LAST-MODIFIED:20230811T142934Z
UID:10000389-1693128600-1693132200@vaughnforest.com
SUMMARY:VFC Membership Class
DESCRIPTION:If you are interested in becoming a member of Vaughn Forest Church then we invite you to join us at our next Membership Class on Sunday\, August 27\, at 9:30 AM in the Next Steps Room.\nTo sign up for Membership Class\, click here.
URL:https://vaughnforest.com/event/vfc-membership-class-4/
LOCATION:Vaughn Forest Church\, 8660 Vaughn Road\, Montgomery\, AL\, 36117\, United States
CATEGORIES:Adults
ATTACH;FMTTYPE=image/webp:https://vaughnforest.com/wp-content/uploads/2023/08/MembershipClassAugust23.webp
ORGANIZER;CN="Chad Boak":MAILTO:chad.boak@vaughnforest.com
GEO:32.3370911;-86.1466101
X-APPLE-STRUCTURED-LOCATION;VALUE=URI;X-ADDRESS=Vaughn Forest Church 8660 Vaughn Road Montgomery AL 36117 United States;X-APPLE-RADIUS=500;X-TITLE=8660 Vaughn Road:geo:-86.1466101,32.3370911
END:VEVENT
END:VCALENDAR