BEGIN:VCALENDAR
VERSION:2.0
PRODID:-//Vaughn Forest Church - ECPv6.15.20//NONSGML v1.0//EN
CALSCALE:GREGORIAN
METHOD:PUBLISH
X-WR-CALNAME:Vaughn Forest Church
X-ORIGINAL-URL:https://vaughnforest.com
X-WR-CALDESC:Events for Vaughn Forest Church
REFRESH-INTERVAL;VALUE=DURATION:PT1H
X-Robots-Tag:noindex
X-PUBLISHED-TTL:PT1H
BEGIN:VTIMEZONE
TZID:America/Chicago
BEGIN:DAYLIGHT
TZOFFSETFROM:-0600
TZOFFSETTO:-0500
TZNAME:CDT
DTSTART:20220313T080000
END:DAYLIGHT
BEGIN:STANDARD
TZOFFSETFROM:-0500
TZOFFSETTO:-0600
TZNAME:CST
DTSTART:20221106T070000
END:STANDARD
BEGIN:DAYLIGHT
TZOFFSETFROM:-0600
TZOFFSETTO:-0500
TZNAME:CDT
DTSTART:20230312T080000
END:DAYLIGHT
BEGIN:STANDARD
TZOFFSETFROM:-0500
TZOFFSETTO:-0600
TZNAME:CST
DTSTART:20231105T070000
END:STANDARD
BEGIN:DAYLIGHT
TZOFFSETFROM:-0600
TZOFFSETTO:-0500
TZNAME:CDT
DTSTART:20240310T080000
END:DAYLIGHT
BEGIN:STANDARD
TZOFFSETFROM:-0500
TZOFFSETTO:-0600
TZNAME:CST
DTSTART:20241103T070000
END:STANDARD
END:VTIMEZONE
BEGIN:VEVENT
DTSTART;TZID=America/Chicago:20231029T093000
DTEND;TZID=America/Chicago:20231029T120000
DTSTAMP:20260420T121917
CREATED:20231004T214733Z
LAST-MODIFIED:20231004T214733Z
UID:10000398-1698571800-1698580800@vaughnforest.com
SUMMARY:VFC Membership Class
DESCRIPTION:If you are interested in becoming a member of Vaughn Forest Church then we invite you to join us at our next Membership Class on Sunday\, October 29\, at 9:30 AM in the Next Steps Room.\nTo sign up for Membership Class\, click here.
URL:https://vaughnforest.com/event/vfc-membership-class-5/
LOCATION:Vaughn Forest Church\, 8660 Vaughn Road\, Montgomery\, AL\, 36117\, United States
CATEGORIES:Adults,Worship
ATTACH;FMTTYPE=image/webp:https://vaughnforest.com/wp-content/uploads/2023/10/MembershipClassOct23.webp
ORGANIZER;CN="Chad Boak":MAILTO:chad.boak@vaughnforest.com
GEO:32.3370911;-86.1466101
X-APPLE-STRUCTURED-LOCATION;VALUE=URI;X-ADDRESS=Vaughn Forest Church 8660 Vaughn Road Montgomery AL 36117 United States;X-APPLE-RADIUS=500;X-TITLE=8660 Vaughn Road:geo:-86.1466101,32.3370911
END:VEVENT
BEGIN:VEVENT
DTSTART;TZID=America/Chicago:20231029T160000
DTEND;TZID=America/Chicago:20231029T173000
DTSTAMP:20260420T121917
CREATED:20230925T213316Z
LAST-MODIFIED:20230925T213316Z
UID:10000397-1698595200-1698600600@vaughnforest.com
SUMMARY:Trunk Or Treat
DESCRIPTION:If you can believe it\, Fall is right around the corner and we are so excited to be hosting our annual Trunk Or Treat again this year on Sunday afternoon\, October 29\, from 4:00-5:30 PM. Kids of all ages are encouraged to dress up (but no scary costumes please) and come out to play games\, eat snacks\, and of course get some candy. We hope you will join us!
URL:https://vaughnforest.com/event/trunk-or-treat/
LOCATION:Vaughn Forest Church\, 8660 Vaughn Road\, Montgomery\, AL\, 36117\, United States
CATEGORIES:Adults,Children
ATTACH;FMTTYPE=image/webp:https://vaughnforest.com/wp-content/uploads/2023/09/TrunkAndTreat2023Title-1.webp
ORGANIZER;CN="Chad Boak":MAILTO:chad.boak@vaughnforest.com
GEO:32.3370911;-86.1466101
X-APPLE-STRUCTURED-LOCATION;VALUE=URI;X-ADDRESS=Vaughn Forest Church 8660 Vaughn Road Montgomery AL 36117 United States;X-APPLE-RADIUS=500;X-TITLE=8660 Vaughn Road:geo:-86.1466101,32.3370911
END:VEVENT
END:VCALENDAR